BEGIN:VCALENDAR
VERSION:2.0
PRODID:-//Squarespace Inc/Squarespace 6//v6//EN
BEGIN:VEVENT
UID:5c0e522d4ae237a297ed6797@squarespace.com
DTSTAMP:20201206T000323Z
DTSTART:20201213T120000Z
DTEND:20210111T130000Z
SUMMARY:More events to be posted shortly\, click here for details
END:VEVENT
END:VCALENDAR
