BEGIN:VCALENDAR
VERSION:2.0
PRODID:-//Squarespace Inc/Squarespace 6//v6//EN
BEGIN:VEVENT
UID:583cbfef579fb3beb571dec7@squarespace.com
DTSTAMP:20210115T022238Z
DTSTART:20210415T090000Z
DTEND:20210415T110000Z
SUMMARY:Explore Australian Shiraz ($120) Thursday 15th April from 7 till 9P
 M
GEO:-33.869484;151.193705
LOCATION:Sydney Wine Centre\, Lvl 1\, 119 Harris Street\, Pyrmont 2009
END:VEVENT
END:VCALENDAR
