BEGIN:VCALENDAR
VERSION:2.0
PRODID:-//Squarespace Inc/Squarespace 6//v6//EN
BEGIN:VEVENT
UID:5ab8d15503ce644c1c86faf8@squarespace.com
DTSTAMP:20190521T091403Z
DTSTART:20180613T081500Z
DTEND:20180613T101500Z
SUMMARY:Ask Huon Hooke  ( Normally $110)  Wed 13th June
GEO:-33.869481;151.193517
LOCATION:The Vineyard Tasting Room\, Sydney Wine Centre\, Lvl1\, 119 Harris 
 Street\, Pyrmont  NSW  2009\, Australia
END:VEVENT
END:VCALENDAR
