BEGIN:VCALENDAR
VERSION:2.0
PRODID:-//Squarespace Inc/Squarespace 6//v6//EN
BEGIN:VEVENT
UID:5ab9c9f5562fa7e19201b309@squarespace.com
DTSTAMP:20200122T064453Z
DTSTART:20200401T080000Z
DTEND:20200408T100000Z
SUMMARY:2 Week Introduction to Wine Course ($200) Wednesdays 1st &amp\; 8th 
 April at 7PM
GEO:-33.869552;151.193474
LOCATION:'The Vineyard' Tasting Room\, Sydney Wine Centre\, 119 Harris St\, 
 Pyrmont\, NSW\, 2009\, Australia
END:VEVENT
END:VCALENDAR
