BEGIN:VCALENDAR
VERSION:2.0
PRODID:-//Squarespace Inc/Squarespace 6//v6//EN
BEGIN:VEVENT
UID:5cd2369ad8c66200013fc4af@squarespace.com
DTSTAMP:20201205T235038Z
DTSTART:20210304T080000Z
DTEND:20210311T100000Z
SUMMARY:Introduction to Wine Course ($200) Thursdays 4th &amp\; 11th March 
 at 7PM till 9PM
GEO:-33.869552;151.193474
LOCATION:'The Vineyard' Tasting Room\, Sydney Wine Centre\, 119 Harris St\, 
 Pyrmont\, NSW\, 2009\, Australia
END:VEVENT
END:VCALENDAR
