BEGIN:VCALENDAR
VERSION:2.0
PRODID:-//Squarespace Inc/Squarespace 6//v6//EN
BEGIN:VEVENT
UID:54f5059ae4b02043de87f98f@squarespace.com
DTSTAMP:20160728T131606Z
DTSTART:20160430T090000Z
DTEND:20161031T100000Z
SUMMARY:Gift Certificate Payment Page
GEO:-33.869552;151.193474
LOCATION:Sydney Wine Centre\, 119 Harris St\, Pyrmont\, NSW\, 2009\, Austra
 lia
END:VEVENT
END:VCALENDAR
