BEGIN:VCALENDAR
VERSION:2.0
PRODID:-//Squarespace Inc/Squarespace 6//v6//EN
BEGIN:VEVENT
UID:54eacc98e4b0b896afa10c53@squarespace.com
DTSTAMP:20150318T002524Z
DTSTART:20150318T080000Z
DTEND:20150318T100000Z
SUMMARY:A Taste of the Cellar ($85)
GEO:-33.869552;151.193474
LOCATION:Sydney Wine Centre\, 119 Harris St\, Pyrmont\, NSW\, 2009\, Austra
 lia
END:VEVENT
END:VCALENDAR
