BEGIN:VCALENDAR
VERSION:2.0
PRODID:-//Squarespace Inc/Squarespace 6//v6//EN
BEGIN:VEVENT
UID:54ab5f5fe4b005bf100bd8fe@squarespace.com
DTSTAMP:20180327T041235Z
DTSTART:20180328T080000Z
DTEND:20180328T095959Z
SUMMARY:French Cheese and Wine Tasting ($90) Wednesday 28th March
GEO:-33.869552;151.193474
LOCATION:'The Vineyard' Tasting Room\, Sydney Wine Centre\, 119 Harris St\, 
 Pyrmont\, NSW\, 2009\, Australia
END:VEVENT
END:VCALENDAR
