BEGIN:VCALENDAR
VERSION:2.0
PRODID:-//Squarespace Inc/Squarespace 6//v6//EN
BEGIN:VEVENT
UID:5ab9c7e1758d464b24661e46@squarespace.com
DTSTAMP:20201229T064504Z
DTSTART:20210224T080000Z
DTEND:20210224T095959Z
SUMMARY:French Cheese and Wine Tasting ($90) Wed 24th February at 7PM
GEO:-33.869552;151.193474
LOCATION:'The Vineyard' Tasting Room\, Sydney Wine Centre\, 119 Harris St\, 
 Pyrmont\, NSW\, 2009\, Australia
END:VEVENT
END:VCALENDAR
