BEGIN:VCALENDAR
VERSION:2.0
PRODID:-//Squarespace Inc/Squarespace 6//v6//EN
BEGIN:VEVENT
UID:5ab9c6b070a6adbe9b71d906@squarespace.com
DTSTAMP:20200824T073942Z
DTSTART:20200910T090000Z
DTEND:20200910T105959Z
SUMMARY:French Cheese and Wine Tasting ($90) Thursday 10th September 7pm
GEO:-33.869552;151.193474
LOCATION:'The Vineyard' Tasting Room\, Sydney Wine Centre\, 119 Harris St\, 
 Pyrmont\, NSW\, 2009\, Australia
END:VEVENT
END:VCALENDAR
