BEGIN:VCALENDAR
VERSION:2.0
PRODID:-//Squarespace Inc/Squarespace 6//v6//EN
BEGIN:VEVENT
UID:5bea6c916d2a73f4c46a4aa0@squarespace.com
DTSTAMP:20201229T065745Z
DTSTART:20210414T090000Z
DTEND:20210414T105959Z
SUMMARY:French Cheese and Wine Tasting ($90) Wednesday 14th April from 7pm 
 - 9pm
GEO:-33.869552;151.193474
LOCATION:'The Vineyard' Tasting Room\, Sydney Wine Centre\, 119 Harris St\, 
 Pyrmont\, NSW\, 2009\, Australia
END:VEVENT
END:VCALENDAR
