BEGIN:VCALENDAR
VERSION:2.0
PRODID:-//Squarespace Inc/Squarespace 6//v6//EN
BEGIN:VEVENT
UID:5fcc1b9a9aa2de0c648237a5@squarespace.com
DTSTAMP:20201205T234639Z
DTSTART:20210211T080000Z
DTEND:20210211T095959Z
SUMMARY:French Cheese and Wine Tasting ($90) Thursday 11th February  7pm - 
 9pm (Copy)
GEO:-33.869552;151.193474
LOCATION:'The Vineyard' Tasting Room\, Sydney Wine Centre\, 119 Harris St\, 
 Pyrmont\, NSW\, 2009\, Australia
END:VEVENT
END:VCALENDAR
