BEGIN:VCALENDAR
VERSION:2.0
PRODID:-//Squarespace Inc/Squarespace 6//v6//EN
BEGIN:VEVENT
UID:5c84b2299b747a5e7a4b487d@squarespace.com
DTSTAMP:20200622T102010Z
DTSTART:20200826T090000Z
DTEND:20200826T105959Z
SUMMARY:French Cheese and Wine Tasting ($90) Wednesday 26TH August at 7pm
GEO:-33.869552;151.193474
LOCATION:'The Vineyard' Tasting Room\, Sydney Wine Centre\, 119 Harris St\, 
 Pyrmont\, NSW\, 2009\, Australia
END:VEVENT
END:VCALENDAR
