BEGIN:VCALENDAR
VERSION:2.0
PRODID:-//Squarespace Inc/Squarespace 6//v6//EN
BEGIN:VEVENT
UID:541bf244e4b09cb1a8e91505@squarespace.com
DTSTAMP:20201205T235255Z
DTSTART:20210318T080000Z
DTEND:20210318T095959Z
SUMMARY:How to read a wine list ($100) Thursday 18th March
GEO:-33.869552;151.193474
LOCATION:'The Vineyard' Tasting Room\, Sydney Wine Centre\, 119 Harris St\, 
 Pyrmont\, NSW\, 2009\, Australia
END:VEVENT
END:VCALENDAR
