BEGIN:VCALENDAR
VERSION:2.0
PRODID:-//Squarespace Inc/Squarespace 6//v6//EN
BEGIN:VEVENT
UID:53b26582e4b02cb24e3ac1ba@squarespace.com
DTSTAMP:20180327T041815Z
DTSTART:20180222T080000Z
DTEND:20180222T100000Z
SUMMARY:Explore Pinot Noir ($100) Thurs 22nd Feb
GEO:-33.869552;151.193474
LOCATION:'The Vineyard' Tasting Room\, Sydney Wine Centre\, 119 Harris St\, 
 Pyrmont\, NSW\, 2009\, Australia
END:VEVENT
END:VCALENDAR
