BEGIN:VCALENDAR
VERSION:2.0
PRODID:-//Squarespace Inc/Squarespace 6//v6//EN
BEGIN:VEVENT
UID:5ab9c60788251bc5b379ccac@squarespace.com
DTSTAMP:20190703T082855Z
DTSTART:20190821T090000Z
DTEND:20190821T110000Z
SUMMARY:Explore Pinot Noir ($100) Wednesday 21st August commencing 7pm
GEO:-33.869552;151.193474
LOCATION:'The Vineyard' Tasting Room\, Sydney Wine Centre\, 119 Harris St\, 
 Pyrmont\, NSW\, 2009\, Australia
END:VEVENT
END:VCALENDAR
