BEGIN:VCALENDAR
VERSION:2.0
PRODID:-//Squarespace Inc/Squarespace 6//v6//EN
BEGIN:VEVENT
UID:53b2663fe4b08c508ab85638@squarespace.com
DTSTAMP:20201205T235454Z
DTSTART:20210325T080000Z
DTEND:20210325T100000Z
SUMMARY:Explore Champagne &amp\; Sparkling Wine ($125) Thursday 25th March  
 7-9PM
GEO:-33.869552;151.193474
LOCATION:'The Vineyard' Tasting Room\, Sydney Wine Centre\, 119 Harris St\, 
 Pyrmont\, NSW\, 2009\, Australia
END:VEVENT
END:VCALENDAR
