BEGIN:VCALENDAR
VERSION:2.0
PRODID:-//Squarespace Inc/Squarespace 6//v6//EN
BEGIN:VEVENT
UID:53b25ff0e4b0cb230e9f0790@squarespace.com
DTSTAMP:20201205T235353Z
DTSTART:20210318T080000Z
DTEND:20210318T100000Z
SUMMARY:An Introduction to Food &amp\; Wine Matching ($100) Thursday18th Ma
 rch
GEO:-33.869552;151.193474
LOCATION:'The Vineyard' Tasting Room\, Sydney Wine Centre\, 119 Harris St\, 
 Pyrmont\, NSW\, 2009\, Australia
END:VEVENT
END:VCALENDAR
