BEGIN:VCALENDAR
VERSION:2.0
PRODID:-//Squarespace Inc/Squarespace 6//v6//EN
BEGIN:VEVENT
UID:53b230dae4b04555635688ae@squarespace.com
DTSTAMP:20181014T032915Z
DTSTART:20181012T230000Z
DTEND:20181013T045959Z
SUMMARY:One-Day Wine Appreciation Course ($300) Sat 17th November 10AM - 4P
 M
GEO:-33.869552;151.193474
LOCATION:'The Vineyard' Tasting Room\, Sydney Wine Centre\, 119 Harris St\, 
 Pyrmont\, NSW\, 2009\, Australia
END:VEVENT
END:VCALENDAR
