BEGIN:VCALENDAR
VERSION:2.0
PRODID:-//Squarespace Inc/Squarespace 6//v6//EN
BEGIN:VEVENT
UID:5c84bac2971a187cd99f99c5@squarespace.com
DTSTAMP:20201229T065633Z
DTSTART:20210417T000000Z
DTEND:20210417T055959Z
SUMMARY:One-Day Wine Appreciation Course ($300) Saturday 17th April from 10
 am-4pm
GEO:-33.869552;151.193474
LOCATION:'The Vineyard' Tasting Room\, Sydney Wine Centre\, 119 Harris St\, 
 Pyrmont\, NSW\, 2009\, Australia
END:VEVENT
END:VCALENDAR
