BEGIN:VCALENDAR
VERSION:2.0
PRODID:-//Squarespace Inc/Squarespace 6//v6//EN
BEGIN:VEVENT
UID:5fcc1ad51e1a4d7de1197404@squarespace.com
DTSTAMP:20201229T065513Z
DTSTART:20210305T230000Z
DTEND:20210306T045959Z
SUMMARY:One-Day Wine Appreciation Course ($300) Saturday 6th March from 10a
 m-4pm (Copy)
GEO:-33.869552;151.193474
LOCATION:'The Vineyard' Tasting Room\, Sydney Wine Centre\, 119 Harris St\, 
 Pyrmont\, NSW\, 2009\, Australia
END:VEVENT
END:VCALENDAR
