BEGIN:VCALENDAR
VERSION:2.0
PRODID:-//Squarespace Inc/Squarespace 6//v6//EN
BEGIN:VEVENT
UID:5bc2b73d53450a5777d62b30@squarespace.com
DTSTAMP:20200131T004318Z
DTSTART:20200306T230000Z
DTEND:20200307T045959Z
SUMMARY:One-Day Wine Appreciation Course ($300) Saturday 7th March 2020 fro
 m 10am-4pm
GEO:-33.869552;151.193474
LOCATION:'The Vineyard' Tasting Room\, Sydney Wine Centre\, 119 Harris St\, 
 Pyrmont\, NSW\, 2009\, Australia
END:VEVENT
END:VCALENDAR
