BEGIN:VCALENDAR
VERSION:2.0
PRODID:-//Squarespace Inc/Squarespace 6//v6//EN
BEGIN:VEVENT
UID:5bc2b6e824a69454027bc9fb@squarespace.com
DTSTAMP:20200726T053758Z
DTSTART:20201016T230000Z
DTEND:20201017T045959Z
SUMMARY:One-Day Wine Appreciation Course ($300) Sat 17th October  10am-4pm
GEO:-33.869552;151.193474
LOCATION:'The Vineyard' Tasting Room\, Sydney Wine Centre\, 119 Harris St\, 
 Pyrmont\, NSW\, 2009\, Australia
END:VEVENT
END:VCALENDAR
