BEGIN:VCALENDAR
VERSION:2.0
PRODID:-//Squarespace Inc/Squarespace 6//v6//EN
BEGIN:VEVENT
UID:5fa74fbc099a931d36dc52bc@squarespace.com
DTSTAMP:20201108T015520Z
DTSTART:20201113T230000Z
DTEND:20201114T045959Z
SUMMARY:One-Day Wine Appreciation Course ($300) Sat 14th November  10am-4pm 
 (Copy)
GEO:-33.869552;151.193474
LOCATION:'The Vineyard' Tasting Room\, Sydney Wine Centre\, 119 Harris St\, 
 Pyrmont\, NSW\, 2009\, Australia
END:VEVENT
END:VCALENDAR
