BEGIN:VCALENDAR
VERSION:2.0
PRODID:-//Squarespace Inc/Squarespace 6//v6//EN
BEGIN:VEVENT
UID:5fcc1a9524c49707d30e7917@squarespace.com
DTSTAMP:20201205T234516Z
DTSTART:20210205T230000Z
DTEND:20210206T045959Z
SUMMARY:One-Day Wine Appreciation Course ($300) Sat 6th February  10am-4pm 
 (Copy) (Copy)
GEO:-33.869552;151.193474
LOCATION:'The Vineyard' Tasting Room\, Sydney Wine Centre\, 119 Harris St\, 
 Pyrmont\, NSW\, 2009\, Australia
END:VEVENT
END:VCALENDAR
