BEGIN:VCALENDAR
VERSION:2.0
PRODID:-//Squarespace Inc/Squarespace 6//v6//EN
BEGIN:VEVENT
UID:548a38bae4b0f02875b170a2@squarespace.com
DTSTAMP:20180908T121751Z
DTSTART:20181128T090000Z
DTEND:20181128T105959Z
SUMMARY:A Taste of Australia ($90) Wednesday 28th November
GEO:-33.869552;151.193474
LOCATION:'The Vineyard' Tasting Room\, Sydney Wine Centre\, 119 Harris St\, 
 Pyrmont\, NSW\, 2009\, Australia
END:VEVENT
END:VCALENDAR
