BEGIN:VCALENDAR
VERSION:2.0
PRODID:-//Squarespace Inc/Squarespace 6//v6//EN
BEGIN:VEVENT
UID:5cd233b2c83025fc8a5f1627@squarespace.com
DTSTAMP:20201229T065951Z
DTSTART:20210429T090000Z
DTEND:20210429T105959Z
SUMMARY:Discover Spanish Wine ($100) Thursday 29th April from  7pm till 9PM
GEO:-33.869552;151.193474
LOCATION:'The Vineyard' Tasting Room\, Sydney Wine Centre\, 119 Harris St\, 
 Pyrmont\, NSW\, 2009\, Australia
END:VEVENT
END:VCALENDAR
