BEGIN:VCALENDAR
VERSION:2.0
PRODID:-//Squarespace Inc/Squarespace 6//v6//EN
BEGIN:VEVENT
UID:5fcc1c35f94b6402b2095e45@squarespace.com
DTSTAMP:20201205T234910Z
DTSTART:20210225T080000Z
DTEND:20210225T095959Z
SUMMARY:Discover Spanish Wine ($100) Thursdat 25th February  7pm till 9PM (
 Copy)
GEO:-33.869552;151.193474
LOCATION:'The Vineyard' Tasting Room\, Sydney Wine Centre\, 119 Harris St\, 
 Pyrmont\, NSW\, 2009\, Australia
END:VEVENT
END:VCALENDAR
