BEGIN:VCALENDAR
VERSION:2.0
PRODID:-//Squarespace Inc/Squarespace 6//v6//EN
BEGIN:VEVENT
UID:547c5abce4b00987aeea6fa5@squarespace.com
DTSTAMP:20150216T035418Z
DTSTART:20150219T080000Z
DTEND:20150219T100000Z
SUMMARY:Discover Italian Wines ($85)
GEO:-33.869552;151.193474
LOCATION:'The Vineyard' Tasting Room\, Sydney Wine Centre\, 119 Harris St\, 
 Pyrmont\, NSW\, 2009\, Australia
END:VEVENT
END:VCALENDAR
