BEGIN:VCALENDAR
VERSION:2.0
PRODID:-//Squarespace Inc/Squarespace 6//v6//EN
BEGIN:VEVENT
UID:547447bae4b0ae4b4d309d59@squarespace.com
DTSTAMP:20200911T033825Z
DTSTART:20201128T010000Z
DTEND:20201128T050000Z
SUMMARY:Saturday Introduction to Wine Course ($200) Sat 28th November at 12 
 O'Clock
GEO:-33.869552;151.193474
LOCATION:'The Vineyard' Tasting Room\, Sydney Wine Centre\, 119 Harris St\, 
 Pyrmont\, NSW\, 2009\, Australia
END:VEVENT
END:VCALENDAR
