BEGIN:VCALENDAR
VERSION:2.0
PRODID:-//Squarespace Inc/Squarespace 6//v6//EN
BEGIN:VEVENT
UID:5ce3a698403ceb000131ce09@squarespace.com
DTSTAMP:20200617T053250Z
DTSTART:20200808T020000Z
DTEND:20200808T060000Z
SUMMARY:Saturday Introduction to Wine Course ($200) Sat 8th August 12 O'Clo
 ck till 4PM
GEO:-33.869552;151.193474
LOCATION:'The Vineyard' Tasting Room\, Sydney Wine Centre\, 119 Harris St\, 
 Pyrmont\, NSW\, 2009\, Australia
END:VEVENT
END:VCALENDAR
