BEGIN:VCALENDAR
VERSION:2.0
PRODID:-//Squarespace Inc/Squarespace 6//v6//EN
BEGIN:VEVENT
UID:5ab9c5b46d2a736f17bc0786@squarespace.com
DTSTAMP:20201205T235106Z
DTSTART:20190316T010000Z
DTEND:20190316T050000Z
SUMMARY:Saturday Introduction to Wine Course ($200) Sat 16th March 12 - 4 P
 M
GEO:-33.869552;151.193474
LOCATION:'The Vineyard' Tasting Room\, Sydney Wine Centre\, 119 Harris St\, 
 Pyrmont\, NSW\, 2009\, Australia
END:VEVENT
END:VCALENDAR
