BEGIN:VCALENDAR
VERSION:2.0
PRODID:-//Squarespace Inc/Squarespace 6//v6//EN
BEGIN:VEVENT
UID:5fcc1cea920f47545b82d255@squarespace.com
DTSTAMP:20201207T231646Z
DTSTART:20210220T010000Z
DTEND:20210220T050000Z
SUMMARY:Saturday Introduction to Wine Course ($200) Sat 20th February  12 - 
 4 PM (Copy)
GEO:-33.869552;151.193474
LOCATION:'The Vineyard' Tasting Room\, Sydney Wine Centre\, 119 Harris St\, 
 Pyrmont\, NSW\, 2009\, Australia
END:VEVENT
END:VCALENDAR
