BEGIN:VCALENDAR
VERSION:2.0
PRODID:-//Squarespace Inc/Squarespace 6//v6//EN
BEGIN:VEVENT
UID:5474501ce4b090b4bcdb2394@squarespace.com
DTSTAMP:20181014T033920Z
DTSTART:20160115T230000Z
DTEND:20160116T050000Z
SUMMARY:One Day Wine Appreciation Course ($300) 2 Spots Available
GEO:-33.869552;151.193474
LOCATION:'The Vineyard' Tasting Room\, Sydney Wine Centre\, 119 Harris St\, 
 Pyrmont\, NSW\, 2009\, Australia
END:VEVENT
END:VCALENDAR
