BEGIN:VCALENDAR
VERSION:2.0
PRODID:-//Squarespace Inc/Squarespace 6//v6//EN
BEGIN:VEVENT
UID:54745522e4b0627bafc0e28a@squarespace.com
DTSTAMP:20160207T100742Z
DTSTART:20160218T080000Z
DTEND:20160218T100000Z
SUMMARY:French Cheese and Wine Matching ($75)
GEO:-33.869552;151.193474
LOCATION:'The Vineyard' Tasting Room\, Sydney Wine Centre\, 119 Harris St\, 
 Pyrmont\, NSW\, 2009\, Australia
END:VEVENT
END:VCALENDAR
