BEGIN:VCALENDAR
VERSION:2.0
PRODID:-//Squarespace Inc/Squarespace 6//v6//EN
BEGIN:VEVENT
UID:54744da6e4b004e6fd675b4b@squarespace.com
DTSTAMP:20200903T031310Z
DTSTART:20201105T080000Z
DTEND:20201126T110000Z
SUMMARY:4 Week Wine Appreciation Course with Rob Geddes M.W. ($400) Thursda
 ys 5\, 12\, 19 &amp\; 26 November
GEO:-33.869552;151.193474
LOCATION:'The Vineyard' Tasting Room\, Sydney Wine Centre\, 119 Harris St\, 
 Pyrmont\, NSW\, 2009\, Australia
END:VEVENT
END:VCALENDAR
