BEGIN:VCALENDAR
VERSION:2.0
PRODID:-//Squarespace Inc/Squarespace 6//v6//EN
BEGIN:VEVENT
UID:542227b2e4b0f1a92f989e46@squarespace.com
DTSTAMP:20190212T065900Z
DTSTART:20180419T090000Z
DTEND:20180419T110000Z
SUMMARY:Discover Italian Wines ($100) Wednesday 17th April 7pm
GEO:-33.869552;151.193474
LOCATION:'The Vineyard' Tasting Room\, Sydney Wine Centre\, 119 Harris St\, 
 Pyrmont\, NSW\, 2009\, Australia
END:VEVENT
END:VCALENDAR
