BEGIN:VCALENDAR
VERSION:2.0
PRODID:-//Squarespace Inc/Squarespace 6//v6//EN
BEGIN:VEVENT
UID:5b880103352f53fb542d7b76@squarespace.com
DTSTAMP:20200726T053439Z
DTSTART:20200923T090000Z
DTEND:20200923T110000Z
SUMMARY:Discover Italian Wines ($100) Wednesday 23rd September at 7pm
GEO:-33.869552;151.193474
LOCATION:'The Vineyard' Tasting Room\, Sydney Wine Centre\, 119 Harris St\, 
 Pyrmont\, NSW\, 2009\, Australia
END:VEVENT
END:VCALENDAR
