BEGIN:VCALENDAR
VERSION:2.0
PRODID:-//Squarespace Inc/Squarespace 6//v6//EN
BEGIN:VEVENT
UID:5f5af02f49b3db799661f5cb@squarespace.com
DTSTAMP:20201229T070109Z
DTSTART:20210422T090000Z
DTEND:20210422T110000Z
SUMMARY:Discover Italian Wines ($100) Thursday 22nd April from 7pm - 9pm
GEO:-33.869552;151.193474
LOCATION:'The Vineyard' Tasting Room\, Sydney Wine Centre\, 119 Harris St\, 
 Pyrmont\, NSW\, 2009\, Australia
END:VEVENT
END:VCALENDAR
