BEGIN:VCALENDAR
VERSION:2.0
PRODID:-//Squarespace Inc/Squarespace 6//v6//EN
BEGIN:VEVENT
UID:5cf5b654a351970001e21d0e@squarespace.com
DTSTAMP:20190619T011040Z
DTSTART:20190619T090000Z
DTEND:20190620T103000Z
SUMMARY:Riedel Masterclass SWC ($99) Wednesday 19th June 7pm 
GEO:-33.869552;151.193474
LOCATION:'The Vineyard' Tasting Room\, Sydney Wine Centre\, 119 Harris St\, 
 Pyrmont\, NSW\, 2009\, Australia
END:VEVENT
END:VCALENDAR
