BEGIN:VCALENDAR
VERSION:2.0
PRODID:-//Squarespace Inc/Squarespace 6//v6//EN
BEGIN:VEVENT
UID:5ce3bfad29c4e80001f3d28d@squarespace.com
DTSTAMP:20200911T033458Z
DTSTART:20201030T080000Z
DTEND:20201030T100000Z
SUMMARY:Discover Italian Wines ($100) Friday 30th October  7pm - 9pm
GEO:-33.869552;151.193474
LOCATION:'The Vineyard' Tasting Room\, Sydney Wine Centre\, 119 Harris St\, 
 Pyrmont\, NSW\, 2009\, Australia
END:VEVENT
END:VCALENDAR
