BEGIN:VCALENDAR
VERSION:2.0
PRODID:-//Squarespace Inc/Squarespace 6//v6//EN
BEGIN:VEVENT
UID:5fcc1bf183d2ac65cc023fbe@squarespace.com
DTSTAMP:20201205T234749Z
DTSTART:20210218T080000Z
DTEND:20210218T100000Z
SUMMARY:Discover Italian Wines ($100) Thursday 18th February  7pm - 9pm (Co
 py)
GEO:-33.869552;151.193474
LOCATION:'The Vineyard' Tasting Room\, Sydney Wine Centre\, 119 Harris St\, 
 Pyrmont\, NSW\, 2009\, Australia
END:VEVENT
END:VCALENDAR
